BEGIN:VCALENDAR
VERSION:2.0
PRODID:-//Squarespace Inc/Squarespace 6//v6//EN
BEGIN:VEVENT
UID:58e9e0861e5b6c098b32561a@squarespace.com
DTSTAMP:20170409T072003Z
DTSTART:20180413T233000Z
DTEND:20180414T142900Z
SUMMARY:VENUE BOOKED
END:VEVENT
END:VCALENDAR
