BEGIN:VCALENDAR
VERSION:2.0
PRODID:-//Squarespace Inc/Squarespace 6//v6//EN
BEGIN:VEVENT
UID:5b2dfbfd03ce6467a1aa6d63@squarespace.com
DTSTAMP:20180623T075157Z
DTSTART:20180721T083000Z
DTEND:20180721T142900Z
SUMMARY:VENUE BOOKED - QUIZ NIGHT
END:VEVENT
END:VCALENDAR
