BEGIN:VCALENDAR
VERSION:2.0
PRODID:-//Squarespace Inc/Squarespace 6//v6//EN
BEGIN:VEVENT
UID:5b2dfb68f950b74c6eca2319@squarespace.com
DTSTAMP:20180623T075104Z
DTSTART:20180707T083000Z
DTEND:20180707T142900Z
SUMMARY:VENUE BOOKED - LAST ONE STANDING 2018
END:VEVENT
END:VCALENDAR
