BEGIN:VCALENDAR
VERSION:2.0
PRODID:-//Squarespace Inc/Squarespace 6//v6//EN
BEGIN:VEVENT
UID:5cdbf332f9619a6ac6bba2aa@squarespace.com
DTSTAMP:20190515T110921Z
DTSTART:20191015T073000Z
DTEND:20191015T132900Z
SUMMARY:VENUE BOOKED - NECAP Fundraiser
END:VEVENT
END:VCALENDAR
