BEGIN:VCALENDAR
VERSION:2.0
PRODID:-//Squarespace Inc/Squarespace 6//v6//EN
BEGIN:VEVENT
UID:5cdbf3740d9297c813e74845@squarespace.com
DTSTAMP:20190515T111012Z
DTSTART:20191026T073000Z
DTEND:20191026T132900Z
SUMMARY:VENUE BOOKED - KICO CONCERT
END:VEVENT
END:VCALENDAR
