BEGIN:VCALENDAR
VERSION:2.0
PRODID:-//Squarespace Inc/Squarespace 6//v6//EN
BEGIN:VEVENT
UID:5cdbf3bd15fcc083e7cdf2df@squarespace.com
DTSTAMP:20190515T111117Z
DTSTART:20191204T073000Z
DTEND:20191204T132900Z
SUMMARY:VENUE BOOKED
END:VEVENT
END:VCALENDAR
