BEGIN:VCALENDAR
VERSION:2.0
PRODID:-//Squarespace Inc/Squarespace 6//v6//EN
BEGIN:VEVENT
UID:5cdbf3e0c8302598e3539ea9@squarespace.com
DTSTAMP:20190515T111225Z
DTSTART:20191206T233000Z
DTEND:20191207T073000Z
SUMMARY:VENUE BOOKED
END:VEVENT
END:VCALENDAR
