BEGIN:VCALENDAR
VERSION:2.0
PRODID:-//Squarespace Inc/Squarespace 6//v6//EN
BEGIN:VEVENT
UID:5cdbf16dd670540001e850b2@squarespace.com
DTSTAMP:20190515T110525Z
DTSTART:20190525T073000Z
DTEND:20190525T142900Z
SUMMARY:VENUE BOOKED - SELJCKO VECER
END:VEVENT
END:VCALENDAR
