BEGIN:VCALENDAR
VERSION:2.0
PRODID:-//Squarespace Inc/Squarespace 6//v6//EN
BEGIN:VEVENT
UID:5cdbf19d8165f5cb00062d11@squarespace.com
DTSTAMP:20190515T110517Z
DTSTART:20190601T083000Z
DTEND:20190601T142900Z
SUMMARY:VENUE BOOKED - POKER NIGHT
END:VEVENT
END:VCALENDAR
