BEGIN:VCALENDAR
VERSION:2.0
PRODID:-//Squarespace Inc/Squarespace 6//v6//EN
BEGIN:VEVENT
UID:5cdbf0e8d670540001e84e99@squarespace.com
DTSTAMP:20190515T110510Z
DTSTART:20190615T083000Z
DTEND:20190615T142900Z
SUMMARY:VENUE BOOKED - LAST ONE STANDING 2019
END:VEVENT
END:VCALENDAR
