BEGIN:VCALENDAR
VERSION:2.0
PRODID:-//Squarespace Inc/Squarespace 6//v6//EN
BEGIN:VEVENT
UID:5cdbf1e5eb3931478ba04386@squarespace.com
DTSTAMP:20190515T110501Z
DTSTART:20190622T083000Z
DTEND:20190622T142900Z
SUMMARY:VENUE BOOKED
END:VEVENT
END:VCALENDAR
