BEGIN:VCALENDAR
VERSION:2.0
PRODID:-//Squarespace Inc/Squarespace 6//v6//EN
BEGIN:VEVENT
UID:5cdbf2158b15700001197ca2@squarespace.com
DTSTAMP:20190515T110438Z
DTSTART:20190623T013000Z
DTEND:20190623T083000Z
SUMMARY:VENUE BOOKED - MISS CROATIA PICNIC
END:VEVENT
END:VCALENDAR
