BEGIN:VCALENDAR
VERSION:2.0
PRODID:-//Squarespace Inc/Squarespace 6//v6//EN
BEGIN:VEVENT
UID:5cdbf28bc8302598e3539825@squarespace.com
DTSTAMP:20190515T110613Z
DTSTART:20190713T083000Z
DTEND:20190713T142900Z
SUMMARY:VENUE BOOKED - QUIZ NIGHT
END:VEVENT
END:VCALENDAR
