BEGIN:VCALENDAR
VERSION:2.0
PRODID:-//Squarespace Inc/Squarespace 6//v6//EN
BEGIN:VEVENT
UID:5cdbf2d96b7dfa0001e2366e@squarespace.com
DTSTAMP:20190515T110740Z
DTSTART:20190901T023000Z
DTEND:20190901T083000Z
SUMMARY:VENUE BOOKED - FATHER'S DAY LUNCH
END:VEVENT
END:VCALENDAR
