BEGIN:VCALENDAR
VERSION:2.0
PRODID:-//Squarespace Inc/Squarespace 6//v6//EN
BEGIN:VEVENT
UID:526663a5e4b06564b843bf81@squarespace.com
DTSTAMP:20131022T124951Z
DTSTART:20131116T090000Z
DTEND:20131116T143000Z
SUMMARY:TOMISLAV BRALIĆ & KLAPA INTRADE CONCERT
GEO:-34.841669;138.605532
LOCATION:Croatian Sports Centre SA Inc.\, State Sports Park\, Main North Rd
 \, Gepps Cross\, SA\, 5094\, Australia
END:VEVENT
END:VCALENDAR
