BEGIN:VCALENDAR
VERSION:2.0
PRODID:-//Squarespace Inc/Squarespace 6//v6//EN
BEGIN:VEVENT
UID:52666a11e4b0b7e2644ed951@squarespace.com
DTSTAMP:20131022T121633Z
DTSTART:20131130T003000Z
DTEND:20131130T153000Z
SUMMARY:FEŠTA - THE CROATIAN FOOD & WINE FESTIVAL 2013
GEO:-34.841669;138.605532
LOCATION:Croatian Sports Centre SA Inc.\, State Sports Park\, Main North Ro
 ad\, Gepps Cross\, SA\, 5094\, Australia
END:VEVENT
END:VCALENDAR
