BEGIN:VCALENDAR
VERSION:2.0
PRODID:-//Squarespace Inc/Squarespace 6//v6//EN
BEGIN:VEVENT
UID:51bda774e4b0cc5280834650@squarespace.com
DTSTAMP:20140115T083655Z
DTSTART:20130714T003000Z
DTEND:20130714T063000Z
SUMMARY:LADIES DAY EXPO
GEO:-34.841669;138.605532
LOCATION:Croatian Sports Centre\, State Sports Park\, Main North Road\, Gep
 ps Cross\, SA\, 5094\, Australia
END:VEVENT
END:VCALENDAR
