BEGIN:VCALENDAR
VERSION:2.0
PRODID:-//Squarespace Inc/Squarespace 6//v6//EN
BEGIN:VEVENT
UID:51e89b57e4b0c79df5dc7336@squarespace.com
DTSTAMP:20130719T022303Z
DTSTART:20130720T083000Z
DTEND:20130720T113000Z
SUMMARY:JUNIOR FLURO PARTY
GEO:-34.841669;138.605532
LOCATION:Croatian Sports Centre\, State Sports Park\, Main North Road\, Gep
 ps Cross\, Australia
END:VEVENT
END:VCALENDAR
