BEGIN:VCALENDAR
VERSION:2.0
PRODID:-//Squarespace Inc/Squarespace 6//v6//EN
BEGIN:VEVENT
UID:52d64626e4b065c7c0ea2742@squarespace.com
DTSTAMP:20140115T085120Z
DTSTART:20140201T013000Z
DTEND:20140201T132500Z
SUMMARY:CRAB FEST 2014
GEO:-34.841669;138.605532
LOCATION:Croatian Sports Centre\, State Sports Park\, South Australia\, Aus
 tralia
END:VEVENT
END:VCALENDAR
