BEGIN:VCALENDAR
VERSION:2.0
PRODID:-//Squarespace Inc/Squarespace 6//v6//EN
BEGIN:VEVENT
UID:51b0853ce4b02de2f57ff39d@squarespace.com
DTSTAMP:20140316T101712Z
DTSTART:20140412T103000Z
DTEND:20140412T153000Z
SUMMARY:LAST ONE STANDING
GEO:-34.841669;138.605532
LOCATION:Croatian Sports Centre SA Inc\, State Sports Park\, Main North Roa
 d\, Gepps Cross SA 5094\, Australia
END:VEVENT
END:VCALENDAR
