BEGIN:VCALENDAR
VERSION:2.0
PRODID:-//Squarespace Inc/Squarespace 6//v6//EN
BEGIN:VEVENT
UID:539675f8e4b08d90c1333e0b@squarespace.com
DTSTAMP:20140610T033729Z
DTSTART:20140612T190000Z
DTEND:20140612T233000Z
SUMMARY:BRAZIL v CROATIA - WORLD CUP 2014
END:VEVENT
END:VCALENDAR
