BEGIN:VCALENDAR
VERSION:2.0
PRODID:-//Squarespace Inc/Squarespace 6//v6//EN
BEGIN:VEVENT
UID:5398660be4b09136d0eab392@squarespace.com
DTSTAMP:20140611T145429Z
DTSTART:20140615T023000Z
DTEND:20140615T093000Z
SUMMARY:FLOOD RELIEF CROATIA & BOSNA PICNIC
END:VEVENT
END:VCALENDAR
