BEGIN:VCALENDAR
VERSION:2.0
PRODID:-//Squarespace Inc/Squarespace 6//v6//EN
BEGIN:VEVENT
UID:53a12a06e4b0600d8dadfb5a@squarespace.com
DTSTAMP:20140618T060126Z
DTSTART:20140618T213000Z
DTEND:20140619T003000Z
SUMMARY:CROATIA v CAMEROON - WORLD CUP 2014
END:VEVENT
END:VCALENDAR
