BEGIN:VCALENDAR
VERSION:2.0
PRODID:-//Squarespace Inc/Squarespace 6//v6//EN
BEGIN:VEVENT
UID:53a6ea8ce4b0a62ab12cdae4@squarespace.com
DTSTAMP:20140622T144307Z
DTSTART:20140623T190000Z
DTEND:20140623T233000Z
SUMMARY:CROATIA v MEXICO - WORLD CUP 2014
END:VEVENT
END:VCALENDAR
