BEGIN:VCALENDAR
VERSION:2.0
PRODID:-//Squarespace Inc/Squarespace 6//v6//EN
BEGIN:VEVENT
UID:53d20f55e4b0c3fee1f42e2c@squarespace.com
DTSTAMP:20140725T080735Z
DTSTART:20140726T100000Z
DTEND:20140726T142900Z
SUMMARY:CRO KARAOKE NIGHT
END:VEVENT
END:VCALENDAR
