BEGIN:VCALENDAR
VERSION:2.0
PRODID:-//Squarespace Inc/Squarespace 6//v6//EN
BEGIN:VEVENT
UID:53e20eb2e4b0a6bee90edcc7@squarespace.com
DTSTAMP:20140806T112959Z
DTSTART:20140809T093000Z
DTEND:20140809T142900Z
SUMMARY:QUIZ NIGHT
END:VEVENT
END:VCALENDAR
