BEGIN:VCALENDAR
VERSION:2.0
PRODID:-//Squarespace Inc/Squarespace 6//v6//EN
BEGIN:VEVENT
UID:5409031be4b06b763c3072f1@squarespace.com
DTSTAMP:20140905T003305Z
DTSTART:20140907T023000Z
DTEND:20140907T073000Z
SUMMARY:FATHER'S DAY LUNCH
END:VEVENT
END:VCALENDAR
