BEGIN:VCALENDAR
VERSION:2.0
PRODID:-//Squarespace Inc/Squarespace 6//v6//EN
BEGIN:VEVENT
UID:574fba777c65e4675a6074c1@squarespace.com
DTSTAMP:20160602T051615Z
DTSTART:20160604T093000Z
DTEND:20160604T153000Z
SUMMARY:80s NIGHT
GEO:-28.000394;153.357009
LOCATION:Croatian Sports Centre
END:VEVENT
END:VCALENDAR
