BEGIN:VCALENDAR
VERSION:2.0
PRODID:-//Squarespace Inc/Squarespace 6//v6//EN
BEGIN:VEVENT
UID:58e9eadb17bffc10a34c09f7@squarespace.com
DTSTAMP:20170409T083216Z
DTSTART:20170125T073000Z
DTEND:20170125T143000Z
SUMMARY:MLADEN GRDOVIC CONCERT
END:VEVENT
END:VCALENDAR
