BEGIN:VCALENDAR
VERSION:2.0
PRODID:-//Squarespace Inc/Squarespace 6//v6//EN
BEGIN:VEVENT
UID:59cb90529f8dce07993e7643@squarespace.com
DTSTAMP:20170927T120739Z
DTSTART:20171021T080000Z
DTEND:20171021T153000Z
SUMMARY:20th ANNIVERSARY GALA BALL
END:VEVENT
END:VCALENDAR
