BEGIN:VCALENDAR
VERSION:2.0
PRODID:-//Squarespace Inc/Squarespace 6//v6//EN
BEGIN:VEVENT
UID:5a83c0524192025a9962d0e5@squarespace.com
DTSTAMP:20180214T051011Z
DTSTART:20180216T193000Z
DTEND:20180217T132900Z
SUMMARY:CRAB FEST 2018
END:VEVENT
END:VCALENDAR
