BEGIN:VCALENDAR
VERSION:2.0
PRODID:-//Squarespace Inc/Squarespace 6//v6//EN
BEGIN:VEVENT
UID:58e9e7fbe3df28b2c24de7cc@squarespace.com
DTSTAMP:20180214T045130Z
DTSTART:20170210T183000Z
DTEND:20170211T083000Z
SUMMARY:CRAB FEST 2017
END:VEVENT
END:VCALENDAR
