BEGIN:VCALENDAR
VERSION:2.0
PRODID:-//Squarespace Inc/Squarespace 6//v6//EN
BEGIN:VEVENT
UID:58e9cfa1d2b8576a9d59d7aa@squarespace.com
DTSTAMP:20170409T084130Z
DTSTART:20170413T083000Z
DTEND:20170413T133000Z
SUMMARY:EASTER THURSDAY STEAK NIGHT
END:VEVENT
END:VCALENDAR
