BEGIN:VCALENDAR
VERSION:2.0
PRODID:-//Squarespace Inc/Squarespace 6//v6//EN
BEGIN:VEVENT
UID:5b2dfc9b0e2e7235d36b24db@squarespace.com
DTSTAMP:20190515T111438Z
DTSTART:20180707T103000Z
DTEND:20180707T133000Z
SUMMARY:LAST ONE STANDING 2018
END:VEVENT
END:VCALENDAR
