BEGIN:VCALENDAR
VERSION:2.0
PRODID:-//Squarespace Inc/Squarespace 6//v6//EN
BEGIN:VEVENT
UID:58fdd4a6db29d686093eeeff@squarespace.com
DTSTAMP:20180623T075403Z
DTSTART:20170527T103000Z
DTEND:20170527T133000Z
SUMMARY:LAST ONE STANDING
END:VEVENT
END:VCALENDAR
