BEGIN:VCALENDAR
VERSION:2.0
PRODID:-//Squarespace Inc/Squarespace 6//v6//EN
BEGIN:VEVENT
UID:58e9d1d7a5790a5591d7913e@squarespace.com
DTSTAMP:20170409T084108Z
DTSTART:20170428T103000Z
DTEND:20170428T153000Z
SUMMARY:MEJASI
END:VEVENT
END:VCALENDAR
