BEGIN:VCALENDAR
VERSION:2.0
PRODID:-//Squarespace Inc/Squarespace 6//v6//EN
BEGIN:VEVENT
UID:58e9d3b6f7e0ab83578ee278@squarespace.com
DTSTAMP:20170409T084054Z
DTSTART:20170603T093000Z
DTEND:20170603T153000Z
SUMMARY:ABBA SHOW - Flaming Sambucas
GEO:-34.838904;138.614512
LOCATION:Croatian Sports Centre
END:VEVENT
END:VCALENDAR
