BEGIN:VCALENDAR
VERSION:2.0
PRODID:-//Squarespace Inc/Squarespace 6//v6//EN
BEGIN:VEVENT
UID:5a83be4ef9619a6f381365b3@squarespace.com
DTSTAMP:20180214T045103Z
DTSTART:20180216T053000Z
DTEND:20180216T132900Z
SUMMARY:VALENTINE'S NIGHT
END:VEVENT
END:VCALENDAR
