BEGIN:VCALENDAR
VERSION:2.0
PRODID:-//Squarespace Inc/Squarespace 6//v6//EN
BEGIN:VEVENT
UID:5cdbf49ee79c70fcb0cb86c2@squarespace.com
DTSTAMP:20190515T112359Z
DTSTART:20190615T103000Z
DTEND:20190615T133000Z
SUMMARY:LAST ONE STANDING 2019
GEO:-34.841506;138.605882
LOCATION:Croatian Sports Centre\, 61 Anna Meares Way\, Gepps Cross\, SA\, 5
 094\, Australia
END:VEVENT
END:VCALENDAR
