BEGIN:VCALENDAR
VERSION:2.0
PRODID:-//Squarespace Inc/Squarespace 6//v6//EN
BEGIN:VEVENT
UID:585cbbbd03596e2c47dd6562@squarespace.com
DTSTAMP:20161223T062740Z
DTSTART:20161231T083000Z
DTEND:20161231T153000Z
SUMMARY:NEW YEAR'S EVE 2016
GEO:-34.841;138.604
LOCATION:Croatian Sports Centre\, State Sports Park\, Gepps Cross\, SA\, 50
 94\, Australia
END:VEVENT
END:VCALENDAR
