BEGIN:VCALENDAR
VERSION:2.0
PRODID:-//Squarespace Inc/Squarespace 6//v6//EN
BEGIN:VEVENT
UID:585cb82303596e2c47dd4b48@squarespace.com
DTSTAMP:20161223T055253Z
DTSTART:20161226T083000Z
DTEND:20161226T143000Z
SUMMARY:STJEPAN DAN / BOXING DAY CONCERT
GEO:-34.841;138.604
LOCATION:Croatian Sports Centre\, State Sports Park\, Gepps Cross\, SA\, 50
 94\, Australia
END:VEVENT
END:VCALENDAR
